BEGIN:VCALENDAR
VERSION:2.0
PRODID:-//Dalton Gymnasium Alsdorf - ECPv6.15.20//NONSGML v1.0//EN
CALSCALE:GREGORIAN
METHOD:PUBLISH
X-WR-CALNAME:Dalton Gymnasium Alsdorf
X-ORIGINAL-URL:https://www.daltongymnasium-alsdorf.de
X-WR-CALDESC:Veranstaltungen für Dalton Gymnasium Alsdorf
REFRESH-INTERVAL;VALUE=DURATION:PT1H
X-Robots-Tag:noindex
X-PUBLISHED-TTL:PT1H
BEGIN:VTIMEZONE
TZID:Europe/Vienna
BEGIN:DAYLIGHT
TZOFFSETFROM:+0100
TZOFFSETTO:+0200
TZNAME:CEST
DTSTART:20250330T010000
END:DAYLIGHT
BEGIN:STANDARD
TZOFFSETFROM:+0200
TZOFFSETTO:+0100
TZNAME:CET
DTSTART:20251026T010000
END:STANDARD
BEGIN:DAYLIGHT
TZOFFSETFROM:+0100
TZOFFSETTO:+0200
TZNAME:CEST
DTSTART:20260329T010000
END:DAYLIGHT
BEGIN:STANDARD
TZOFFSETFROM:+0200
TZOFFSETTO:+0100
TZNAME:CET
DTSTART:20261025T010000
END:STANDARD
BEGIN:DAYLIGHT
TZOFFSETFROM:+0100
TZOFFSETTO:+0200
TZNAME:CEST
DTSTART:20270328T010000
END:DAYLIGHT
BEGIN:STANDARD
TZOFFSETFROM:+0200
TZOFFSETTO:+0100
TZNAME:CET
DTSTART:20271031T010000
END:STANDARD
END:VTIMEZONE
BEGIN:VEVENT
DTSTART;VALUE=DATE:20260420
DTEND;VALUE=DATE:20260425
DTSTAMP:20260421T121154
CREATED:20251008T213313Z
LAST-MODIFIED:20260421T093219Z
UID:6152-1776643200-1777075199@www.daltongymnasium-alsdorf.de
SUMMARY:LW 29 A
DESCRIPTION:LW 29 A
URL:https://www.daltongymnasium-alsdorf.de/termin/lw-29-a/
END:VEVENT
BEGIN:VEVENT
DTSTART;TZID=Europe/Vienna:20260421T102000
DTEND;TZID=Europe/Vienna:20260421T121500
DTSTAMP:20260421T121154
CREATED:20260226T213235Z
LAST-MODIFIED:20260421T093219Z
UID:6586-1776766800-1776773700@www.daltongymnasium-alsdorf.de
SUMMARY:Stufe 9\, PP: Gesprächskreis Hospiz-Dienst ACD Regio
DESCRIPTION:Stufe 9\, PP: Gesprächskreis Hospiz-Dienst ACD Regio
URL:https://www.daltongymnasium-alsdorf.de/termin/stufe-9-pp-gespraechskreis-hospiz-dienst-acd-regio/
LOCATION:N 185 / N 187
END:VEVENT
END:VCALENDAR